BEGIN:VCALENDAR
VERSION:2.0
PRODID:-//wp-events-plugin.com//7.2.3.1//EN
TZID:Europe/Berlin
X-WR-TIMEZONE:Europe/Berlin
BEGIN:VEVENT
UID:111@tg-boeckingen.com
DTSTART;TZID=Europe/Berlin:20260709T000000
DTEND;TZID=Europe/Berlin:20260712T000000
DTSTAMP:20251231T120820Z
URL:https://tg-boeckingen.com/veranstaltungen/4er-tisch-weltmeisterschafte
 n/
SUMMARY:4er-Tisch Weltmeisterschaften
DESCRIPTION:Nähere Informationen zum Turnier in der Mönchseehalle Heilbro
 nn folgen.
CATEGORIES:Tischtennis,Verein
LOCATION:Mönchseehalle\, Karlstr. 44\, Heilbronn\, 74080\, Deutschland
X-APPLE-STRUCTURED-LOCATION;VALUE=URI;X-ADDRESS=Karlstr. 44\, Heilbronn\, 7
 4080\, Deutschland;X-APPLE-RADIUS=100;X-TITLE=Mönchseehalle:geo:0,0
END:VEVENT
BEGIN:VTIMEZONE
TZID:Europe/Berlin
X-LIC-LOCATION:Europe/Berlin
BEGIN:DAYLIGHT
DTSTART:20260329T030000
TZOFFSETFROM:+0100
TZOFFSETTO:+0200
TZNAME:CEST
END:DAYLIGHT
END:VTIMEZONE
END:VCALENDAR